BEGIN:VCALENDAR
VERSION:2.0
PRODID:-//hacksw/handcal//NONSGML v1.0//EN
CALSCALE:GREGORIAN
BEGIN:VEVENT
DESCRIPTION:Publikacja raportu okresowego\n
DTSTART;VALUE=DATE:20191122
SUMMARY:Raport Kwartalny za III kwartał 2019 r.
URL;VALUE=URI:https://mdienergia.pl/pl/kalendarium/2019/raport-kwartalny-za-iii-kwartal-2019-r
DTSTAMP:20260422
UID:69e8d00765dda
END:VEVENT
END:VCALENDAR