BEGIN:VCALENDAR
VERSION:2.0
PRODID:-//hacksw/handcal//NONSGML v1.0//EN
CALSCALE:GREGORIAN
BEGIN:VEVENT
DESCRIPTION:Publikacja raportu okresowego\n
DTSTART;VALUE=DATE:20200330
SUMMARY:Jednostkowy Raport Roczny za 2019 rok
URL;VALUE=URI:https://mdienergia.pl/pl/kalendarium/2020/jednostkowy-raport-roczny-za-2019-rok
DTSTAMP:20260422
UID:69e8ced206994
END:VEVENT
END:VCALENDAR