BEGIN:VCALENDAR
VERSION:2.0
PRODID:-//hacksw/handcal//NONSGML v1.0//EN
CALSCALE:GREGORIAN
BEGIN:VEVENT
DESCRIPTION:\nTransmisja on-line:&nbsp\;transmisja zakończona.
DTSTART;VALUE=DATE:20200529
SUMMARY:WZA MDI Energia SA 29.05.2020
URL;VALUE=URI:https://mdienergia.pl/pl/kalendarium/2020/wza-mdi-energia-sa-29052020
DTSTAMP:20260422
UID:69e8cf1aa619e
END:VEVENT
END:VCALENDAR