BEGIN:VCALENDAR
VERSION:2.0
PRODID:-//hacksw/handcal//NONSGML v1.0//EN
CALSCALE:GREGORIAN
BEGIN:VEVENT
DESCRIPTION:\n
DTSTART;VALUE=DATE:20210630
SUMMARY:WZA MDI Energia SA 30.06.2021
URL;VALUE=URI:https://mdienergia.pl/pl/kalendarium/2021/wza-mdi-energia-sa-30062021
DTSTAMP:20260422
UID:69e8df79cb09a
END:VEVENT
END:VCALENDAR